BEGIN:VCALENDAR
PRODID:-//Calendar export
VERSION:2.0
X-WR-TIMEZONE:Etc/GMT
BEGIN:VTIMEZONE
TZID:GMT Standard Time
BEGIN:STANDARD
TZOFFSETFROM:+0000
TZOFFSETTO:+0000
END:STANDARD
END:VTIMEZONE
BEGIN:VEVENT
UID:AE14208
DTSTAMP:20260421T153800Z
SUMMARY:Women in Science Portland x Biophysical Society Professiona
 l Development 
 Mixer: Craft Your Professional Elevator Pitch
CLASS:PUBLIC
DESCRIPTION:This Networking Event will be held on November 9\, 2023 fro
 m 5:30 pm - 8:
 30 pm US Pacific time at Lucky Laborador Beer Hall\, 1945 NW Quimby St\, 
 Portland\, OR\, 97209. The event is being hosted by BPS Member Dr. Rose M
 arie Haynes\, Pacific Northwest Center for Cryo EM and Women in Science P
 ortland.\\n\\nRegister here: https://www.flipcause.com/secure/cause_pdeta
 ils/MTk1OTAz
STATUS:CONFIRMED
PRIORITY:1
DTSTART:20231109T050000Z
DTEND:20231110T045900Z
TRANSP:OPAQUE
END:VEVENT
END:VCALENDAR
