BEGIN:VCALENDAR
PRODID:-//Calendar export
VERSION:2.0
X-WR-TIMEZONE:Etc/GMT
BEGIN:VTIMEZONE
TZID:GMT Standard Time
BEGIN:STANDARD
TZOFFSETFROM:+0000
TZOFFSETTO:+0000
END:STANDARD
END:VTIMEZONE
BEGIN:VEVENT
UID:AE16534
DTSTAMP:20260421T150600Z
SUMMARY:Mini-symposium on Computational Biophysics: From Machine Le
 arning to Coar
 se-Grained Simulations
CLASS:PUBLIC
DESCRIPTION:This event is organized by BPS member Dr. Adolfo Poma Berna
 ola\, Institut
 e of Fundamental Technological Research\, Polish Academy for Sciences\, W
 arsaw\, Poland.\\n\\nRegister here\\n\\nThe event will showcase the lates
 t advancements in molecular dynamics simulations of biomolecular systems\
 , with a special focus on cutting-edge innovations driven by machine lear
 ning techniques and coarse-grained molecular simulations. This event will
  highlight state-of-the-art computational methods that deepen our underst
 anding of molecular interactions\, particularly in large-scale applicatio
 ns. Renowned keynote speakers from the LATAM region will present insightf
 ul lectures and engage in networking sessions with attendees.\\n\\nPoster
  submission instructions are available under registration at https://form
 s.gle/MfrgLdAdrFp3yTgRA
STATUS:CONFIRMED
PRIORITY:1
DTSTART:20250414T140000Z
DTEND:20250414T180000Z
TRANSP:OPAQUE
END:VEVENT
END:VCALENDAR
