BEGIN:VCALENDAR
PRODID:-//Calendar export
VERSION:2.0
X-WR-TIMEZONE:Etc/GMT
BEGIN:VTIMEZONE
TZID:GMT Standard Time
BEGIN:STANDARD
TZOFFSETFROM:+0000
TZOFFSETTO:+0000
END:STANDARD
END:VTIMEZONE
BEGIN:VEVENT
UID:AE16583
DTSTAMP:20260421T151600Z
SUMMARY:BPS/BSC Virtual Trivia Night
CLASS:PUBLIC
DESCRIPTION:Event Date/Time: Monday\, March 24\, 2025 7:00 pm ADT (Atla
 ntic Daylight 
 Time\, UTC -3) Time zone converter\\n\\nRegister here
STATUS:CONFIRMED
PRIORITY:1
DTSTART:20250324T040000Z
DTEND:20250325T035900Z
TRANSP:OPAQUE
END:VEVENT
END:VCALENDAR
