BEGIN:VCALENDAR
PRODID:-//Calendar export
VERSION:2.0
X-WR-TIMEZONE:Etc/GMT
BEGIN:VTIMEZONE
TZID:GMT Standard Time
BEGIN:STANDARD
TZOFFSETFROM:+0000
TZOFFSETTO:+0000
END:STANDARD
END:VTIMEZONE
BEGIN:VEVENT
UID:AE16584
DTSTAMP:20260421T133200Z
SUMMARY:Southern California Users of Magnets Meeting, 2025
CLASS:PUBLIC
DESCRIPTION:Event Date/Time: Saturday\, September 27\, 2025 9:30 am - 6
 :00 pm PDT (UT
 C -7) Time Zone Converter\\nLocation: UC Irvine Campus\\n\\nIt is our abs
 olute pleasure to invite you to the 2025 Southern California Users of Mag
 nets (SCUM) Conference.  Please mark your calendars for the next SCUM mee
 ting to be held on Saturday\, September 27\, 2025\, at the beautiful UC I
 rvine campus.\\n \\nThe SCUM conference has long been a congregation of e
 xperts\, students\, and enthusiastic users of magnets across Southern Cal
 ifornia\, and this year we are particularly excited to discuss new insigh
 ts and advances explored recently. \\n \\nRegistration for the 2025 SCUM 
 meeting will open in June.\\n \\n\\nContact information: \\nMelanie Cocco
 -UCI (mcocco@uci.edu) and Susumu Takahashi-USC (susumuta@usc.edu)\\nCo-ch
 airs of 2025 SCUM meeting
STATUS:CONFIRMED
PRIORITY:1
DTSTART:20250927T133000Z
DTEND:20250927T220000Z
TRANSP:OPAQUE
END:VEVENT
END:VCALENDAR
