BEGIN:VCALENDAR
PRODID:-//Calendar export
VERSION:2.0
X-WR-TIMEZONE:Etc/GMT
BEGIN:VTIMEZONE
TZID:GMT Standard Time
BEGIN:STANDARD
TZOFFSETFROM:+0000
TZOFFSETTO:+0000
END:STANDARD
END:VTIMEZONE
BEGIN:VEVENT
UID:AE16589
DTSTAMP:20260421T150700Z
SUMMARY:Bridging the Theoretical and Experimental Biophysicists in 
 Bangladesh
CLASS:PUBLIC
DESCRIPTION:
STATUS:CONFIRMED
PRIORITY:1
DTSTART:20250417T140000Z
DTEND:20250417T213000Z
TRANSP:OPAQUE
END:VEVENT
END:VCALENDAR
