BEGIN:VCALENDAR
PRODID:-//Calendar export
VERSION:2.0
X-WR-TIMEZONE:Etc/GMT
BEGIN:VTIMEZONE
TZID:GMT Standard Time
BEGIN:STANDARD
TZOFFSETFROM:+0000
TZOFFSETTO:+0000
END:STANDARD
END:VTIMEZONE
BEGIN:VEVENT
UID:AE16591
DTSTAMP:20260421T132100Z
SUMMARY:Boosting Biophysical Analyses with Machine Learning Models
CLASS:PUBLIC
DESCRIPTION:Event Date/Time: Friday\, October 10\, 2025 8:45 am - 6:30 
 pm (IST\, Indi
 an Standard Time\, UTC +5:30)\\nLocation: Asima Chatterjee Hall\, Indian 
 Institute of Science Education and Research (IISER) Kolkata\, India\\nSen
 d Queries to: mced.iiserk@gmail.com\\n\\nPlease click here to register. R
 egistration Ends September 25\, 2025\\n\\nOrganizer: Prof. Neelanjana Sen
 gupta\, IISER Kolkata\, Indian Ambassador\, Biophysical Society\\nCo-orga
 nizers: Prof. Bidisha Sinha\, IISER Kolkata and Dr. Dipjyoti Das\, IISER 
 Kolkata\\n 
STATUS:CONFIRMED
PRIORITY:1
DTSTART:20251010T124500Z
DTEND:20251010T223000Z
TRANSP:OPAQUE
END:VEVENT
END:VCALENDAR
