BEGIN:VCALENDAR
PRODID:-//Calendar export
VERSION:2.0
X-WR-TIMEZONE:Etc/GMT
BEGIN:VTIMEZONE
TZID:GMT Standard Time
BEGIN:STANDARD
TZOFFSETFROM:+0000
TZOFFSETTO:+0000
END:STANDARD
END:VTIMEZONE
BEGIN:VEVENT
UID:AE16592
DTSTAMP:20260421T150200Z
SUMMARY:The Interdisciplinary Biophysics Networking Mini-Symposium 
 2025
CLASS:PUBLIC
DESCRIPTION:Event Date/Time: Sunday\, May 11\, 2025\, 11:00 am - 4:30 p
 m (EDT\, UTC-4
 ) Time Zone Converter\\nLocation: Columbus\, Ohio\, The Ohio State Univer
 sity\, Main Campus (IHSC) - Room 170 & 180\\n\\nPoster Submission: Attend
 ees must submit their poster title to bogdanov.7@buckeyemail.osu.edu by M
 ay 1st at 11:59 PM and indicate either:\\n\\n\\n The biophysics area thei
 r research falls under (e.g.\, computational\, integrative\, structural\,
  molecular\, or other relevant fields)\, or\\n The academic department (e
 .g.\, Interdisciplinary\, Physics\, Statistics\, Bioengineering\, etc.) i
 n which they are conducting their biophysics-related research.\\n\\n\\n \
 \n\\nOSU Contacts:\\nVlad Bogdanov\, PhD Student\\nPresident of Physiolog
 y and Cell Biology Graduate Student Organization\\n\\nJenna Thuma\, PhD S
 tudent\\nPresident of Biophysics Student Organization
STATUS:CONFIRMED
PRIORITY:1
DTSTART:20250511T150000Z
DTEND:20250511T203000Z
TRANSP:OPAQUE
END:VEVENT
END:VCALENDAR
