BEGIN:VCALENDAR
PRODID:-//Calendar export
VERSION:2.0
X-WR-TIMEZONE:Etc/GMT
BEGIN:VTIMEZONE
TZID:GMT Standard Time
BEGIN:STANDARD
TZOFFSETFROM:+0000
TZOFFSETTO:+0000
END:STANDARD
END:VTIMEZONE
BEGIN:VEVENT
UID:AE16594
DTSTAMP:20260421T133100Z
SUMMARY:DNA Double-Strand Break Repair Mechanisms Meeting in Paris 
 2025
CLASS:PUBLIC
DESCRIPTION:Event Date/Time: October 10\, 2025\, 8:30 am - 5:00 pm (CES
 T\, UTC +2) Ti
 me Zone Converter\\nLocation: Salle Dussane\, École Normale Supérieure (E
 NS) - PSL University\, 45 rue d'Ulm\, 75005 Paris\, France\\nPoster Submi
 ssions: pre-printed A0 vertical posters \\nPlease complete this online fo
 rm to confirm your participation in the event and to submit your poster.\
 \n\\nOrganizing Committee:\\nAnđela Radovanović\, ENS-PSL Paris\, France\
 \nVincent Morin\, ENS-PSL\, Paris\, France \\nAfra Sabei\, Université Par
 is Cité\, Paris\, France \\nSophia Missoury\, Institut Pasteur\, Paris\, 
 France
STATUS:CONFIRMED
PRIORITY:1
DTSTART:20251010T040000Z
DTEND:20251011T035900Z
TRANSP:OPAQUE
END:VEVENT
END:VCALENDAR
