BEGIN:VCALENDAR
PRODID:-//Calendar export
VERSION:2.0
X-WR-TIMEZONE:Etc/GMT
BEGIN:VTIMEZONE
TZID:GMT Standard Time
BEGIN:STANDARD
TZOFFSETFROM:+0000
TZOFFSETTO:+0000
END:STANDARD
END:VTIMEZONE
BEGIN:VEVENT
UID:AE16629
DTSTAMP:20260421T133100Z
SUMMARY:Biophysical Mechanisms Underlying Blast-Induced Diseases: f
 rom Molecular 
 to Clinical Outcomes
CLASS:PUBLIC
DESCRIPTION:Event Date/Time: September 9\, 2025 10:00 - 16:30 EEST (Eas
 tern European 
 Summer Time\, UTC +3)  Time Zone Converter\\n\\n(Registration/participati
 on link coming soon)
STATUS:CONFIRMED
PRIORITY:1
DTSTART:20250514T140000Z
DTEND:20250514T203000Z
TRANSP:OPAQUE
END:VEVENT
END:VCALENDAR
