BEGIN:VCALENDAR
PRODID:-//Calendar export
VERSION:2.0
X-WR-TIMEZONE:Etc/GMT
BEGIN:VTIMEZONE
TZID:GMT Standard Time
BEGIN:STANDARD
TZOFFSETFROM:+0000
TZOFFSETTO:+0000
END:STANDARD
END:VTIMEZONE
BEGIN:VEVENT
UID:AE16909
DTSTAMP:20260421T132000Z
SUMMARY:UK Midlands Biophysics Network Meeting
CLASS:PUBLIC
DESCRIPTION:Event Date/Time: Thursday\, 18th September 2025 9:00 - 17:0
 0 (UK BST\, UT
 C +1) Time Zone Converter \\nLocation: University of Nottingham\, Enginee
 ring and Science Learning Centre\, University Park Campus\, University Pa
 rk \, Nottingham\, NG7 2TQ \\nRegistration: Please click here to complete
  the registration form.
STATUS:CONFIRMED
PRIORITY:1
DTSTART:20250918T040000Z
DTEND:20250919T035900Z
TRANSP:OPAQUE
END:VEVENT
END:VCALENDAR
