BEGIN:VCALENDAR
PRODID:-//Calendar export
VERSION:2.0
X-WR-TIMEZONE:Etc/GMT
BEGIN:VTIMEZONE
TZID:GMT Standard Time
BEGIN:STANDARD
TZOFFSETFROM:+0000
TZOFFSETTO:+0000
END:STANDARD
END:VTIMEZONE
BEGIN:VEVENT
UID:AE17208
DTSTAMP:20260421T132000Z
SUMMARY:The Third Molecular Biophysics Symposium
CLASS:PUBLIC
DESCRIPTION:Event Date/Time: Friday\, October 10\, 2025\,  7:45 am - 6:
 20 pm (EDT) Ti
 me Zone Converter\\nLocation: Virginia Tech Campus\, Blacksburg\, Virgini
 a\, United States\\nRegistration: (link in description below)
STATUS:CONFIRMED
PRIORITY:1
DTSTART:20251010T040000Z
DTEND:20251011T035900Z
TRANSP:OPAQUE
END:VEVENT
END:VCALENDAR
