BEGIN:VCALENDAR
PRODID:-//Calendar export
VERSION:2.0
X-WR-TIMEZONE:Etc/GMT
BEGIN:VTIMEZONE
TZID:GMT Standard Time
BEGIN:STANDARD
TZOFFSETFROM:+0000
TZOFFSETTO:+0000
END:STANDARD
END:VTIMEZONE
BEGIN:VEVENT
UID:AE17353
DTSTAMP:20260421T132100Z
SUMMARY:Building Bridges in Computational Biophysics v 4.0 (BBCBv4.
 0)
CLASS:PUBLIC
DESCRIPTION:Event Date/Time: Wednesday\, October 8\, 2025 11:00 am  - 1
 :30 pm ET  Tim
 e Zone Converter\\nLocation: Virtual \\n\\nPoster submissions will be acc
 epted. Submit your abstract for poster presentation here:\\nhttps://forms
 .gle/vUoLx5gvmj9jd5BS8\\nThe poster submission deadline is September 26\,
  2025.
STATUS:CONFIRMED
PRIORITY:1
DTSTART:20251008T040000Z
DTEND:20251009T035900Z
TRANSP:OPAQUE
END:VEVENT
END:VCALENDAR
