BEGIN:VCALENDAR
PRODID:-//Calendar export
VERSION:2.0
X-WR-TIMEZONE:Etc/GMT
BEGIN:VTIMEZONE
TZID:GMT Standard Time
BEGIN:STANDARD
TZOFFSETFROM:+0000
TZOFFSETTO:+0000
END:STANDARD
END:VTIMEZONE
BEGIN:VEVENT
UID:AE17387
DTSTAMP:20260421T132100Z
SUMMARY:Recent Advances in Theoretical and Computational Biophysics
  in Cameroon
CLASS:PUBLIC
DESCRIPTION:Event Date/Time: Wednesday\, September 3\, 2025\, 10:00 am 
 - 3:00 pm (WAT
 \, GMT+1)  Time Zone Converter\\nLocation: PAMB Hall\, University of Yaou
 ndé I\, Yaoundé\, Cameroon\\nPoster Submission: For more information cont
 act the Ambassador of Biophysical Society Cameroon at takembo.ntahkie@ubu
 ea.cm
STATUS:CONFIRMED
PRIORITY:1
DTSTART:20250903T040000Z
DTEND:20250904T035900Z
TRANSP:OPAQUE
END:VEVENT
END:VCALENDAR
