BEGIN:VCALENDAR
PRODID:-//Calendar export
VERSION:2.0
X-WR-TIMEZONE:Etc/GMT
BEGIN:VTIMEZONE
TZID:GMT Standard Time
BEGIN:STANDARD
TZOFFSETFROM:+0000
TZOFFSETTO:+0000
END:STANDARD
END:VTIMEZONE
BEGIN:VEVENT
UID:AE17479
DTSTAMP:20260421T132100Z
SUMMARY:Hands-on Training in Computational Modeling and Artificial 
 Intelligence i
 n Biophysics
CLASS:PUBLIC
DESCRIPTION:Event Date/Time: Wednesday\, October 8\, 2025\, 10:00 am - 
 3:00 pm (WAT\,
  GMT+1\, Yaounde\, Cameroon Time) Time Zone Converter\\nLocation: 3D Prin
 ting High-Tech Center at the National Advanced School of Engineering (ENS
 P) of the University of Yaounde I\, Yaounde\, Cameroon\\nPoster Submissio
 n: For more information contact the Ambassador of Biophysical Society Cam
 eroon at takembo.ntahkie@ubuea.cm\\n\\n 
STATUS:CONFIRMED
PRIORITY:1
DTSTART:20251008T040000Z
DTEND:20251009T035900Z
TRANSP:OPAQUE
END:VEVENT
END:VCALENDAR
