BEGIN:VCALENDAR
PRODID:-//Calendar export
VERSION:2.0
X-WR-TIMEZONE:Etc/GMT
BEGIN:VTIMEZONE
TZID:GMT Standard Time
BEGIN:STANDARD
TZOFFSETFROM:+0000
TZOFFSETTO:+0000
END:STANDARD
END:VTIMEZONE
BEGIN:VEVENT
UID:AE17871
DTSTAMP:20260421T133100Z
SUMMARY:Launching of Biophysical Society Student Chapter - Universi
 ty of Buea
CLASS:PUBLIC
DESCRIPTION:Event Date/Time: Thursday\, December 4\, 2025 10:00 am - 2:
 00 pm (GMT+1\,
  Buea\, Cameroon Time) Time Zone Converter\\nLocation: Dorothy Limunga Nj
 euma Amphitheatre 750\, University of Buea\\nFor more information: Contac
 t the Ambassador of Biophysical Society Cameroon at takembo.ntahkie@ubuea
 .cm\\n\\n 
STATUS:CONFIRMED
PRIORITY:1
DTSTART:20251204T050000Z
DTEND:20251205T045900Z
TRANSP:OPAQUE
END:VEVENT
END:VCALENDAR
