BEGIN:VCALENDAR
PRODID:-//Calendar export
VERSION:2.0
X-WR-TIMEZONE:Etc/GMT
BEGIN:VTIMEZONE
TZID:GMT Standard Time
BEGIN:STANDARD
TZOFFSETFROM:+0000
TZOFFSETTO:+0000
END:STANDARD
END:VTIMEZONE
BEGIN:VEVENT
UID:AE18114
DTSTAMP:20260421T133100Z
SUMMARY:The Exhaustive Chase: Investigation of Striated Muscle Regu
 lation in Heal
 th and Disease
CLASS:PUBLIC
DESCRIPTION:Event Date/Time: Saturday\, March 21\, 2026\, 9:00 am - 8:0
 0 pm (EDT) Tim
 e Zone Converter\\nLocation: Florida State University Alumni Center\, 103
 0 W. Tennessee St.\, Tallahassee\, FL 32304\\n 
STATUS:CONFIRMED
PRIORITY:1
DTSTART:20260321T040000Z
DTEND:20260322T035900Z
TRANSP:OPAQUE
END:VEVENT
END:VCALENDAR
