BEGIN:VCALENDAR
PRODID:-//Calendar export
VERSION:2.0
X-WR-TIMEZONE:Etc/GMT
BEGIN:VTIMEZONE
TZID:GMT Standard Time
BEGIN:STANDARD
TZOFFSETFROM:+0000
TZOFFSETTO:+0000
END:STANDARD
END:VTIMEZONE
BEGIN:VEVENT
UID:AE18295
DTSTAMP:20260421T132000Z
SUMMARY:Quantum Biology and Biophysics
CLASS:PUBLIC
DESCRIPTION:Event Date/Time: Friday\, March 13\, 2026 1:00 pm - 3:00 pm
  (EDT) Time Zo
 ne Converter\\nLocation: online\\n\\nRegister Now\\n\\n“Quantum Biology a
 nd Biophysics” is a two-hour online event featuring two thirty-minute tal
 ks on quantum biology and two thirty-minute panels. The talks will discus
 s important phenomena in quantum biology\, namely\, chemical excitation o
 f electrons and weak magnetic field sensitivity. The panels will cover mo
 re general topics of interest\, including the relation between biophysics
  and quantum biology and the future of scientific funding.\\n\\nThis even
 t is hosted by the Quantum Biology DAO.\\n\\nFor additional information\,
  please contact Geoff Anders geoff@leverageresearch.org
STATUS:CONFIRMED
PRIORITY:1
DTSTART:20260313T040000Z
DTEND:20260314T035900Z
TRANSP:OPAQUE
END:VEVENT
END:VCALENDAR
