BEGIN:VCALENDAR
PRODID:-//Calendar export
VERSION:2.0
X-WR-TIMEZONE:Etc/GMT
BEGIN:VTIMEZONE
TZID:GMT Standard Time
BEGIN:STANDARD
TZOFFSETFROM:+0000
TZOFFSETTO:+0000
END:STANDARD
END:VTIMEZONE
BEGIN:VEVENT
UID:AE18483
DTSTAMP:20260421T132000Z
SUMMARY:Mid-South Biophysics and Quantitative Biology 2026
CLASS:PUBLIC
DESCRIPTION:Event Date/Time: Friday\, November 13\, 2026\, 8:30 am - 5:
 30 pm CST Time
  Zone Converter\\nLocation: Student Union\, University of Mississippi\, 2
 18 Student Union Drive\, University\, MS 38677\\n\\nFor additional inform
 ation\, please contact Anand Pratap Singh anandsingh0106@gmail.com\, asin
 gh21@olemiss.edu\, Sujay Ray sray1@olemiss.edu\, Erik F. Y. Hom erik@olem
 iss.edu
STATUS:CONFIRMED
PRIORITY:1
DTSTART:20261113T050000Z
DTEND:20261114T045900Z
TRANSP:OPAQUE
END:VEVENT
END:VCALENDAR
