BEGIN:VCALENDAR
PRODID:-//Calendar export
VERSION:2.0
X-WR-TIMEZONE:Etc/GMT
BEGIN:VTIMEZONE
TZID:GMT Standard Time
BEGIN:STANDARD
TZOFFSETFROM:+0000
TZOFFSETTO:+0000
END:STANDARD
END:VTIMEZONE
BEGIN:VEVENT
UID:AE18531
DTSTAMP:20260421T132000Z
SUMMARY:Biophysics\, Then and Now: Engage in Dialog between Experie
 nced Research 
 Scientists and Undergraduate Students of Science
CLASS:PUBLIC
DESCRIPTION:Event Date/Time: Thursday\, June 25\, 2026\, 2:00 pm - 5:30
  pm (PDT) Time
  Zone Converter\\nLocation: Point Loma Nazarene University\, 3900 Lomalan
 d Drive\, San Diego\, California 92106
STATUS:CONFIRMED
PRIORITY:1
DTSTART:20260625T040000Z
DTEND:20260626T035900Z
TRANSP:OPAQUE
END:VEVENT
END:VCALENDAR
